BEGIN:VCALENDAR
VERSION:2.0
PRODID:-//Éléphants et pattes de mouche - ECPv6.15.14//NONSGML v1.0//EN
CALSCALE:GREGORIAN
METHOD:PUBLISH
X-WR-CALNAME:Éléphants et pattes de mouche
X-ORIGINAL-URL:https://elephantsetpattesdemouche.com
X-WR-CALDESC:Évènements pour Éléphants et pattes de mouche
REFRESH-INTERVAL;VALUE=DURATION:PT1H
X-Robots-Tag:noindex
X-PUBLISHED-TTL:PT1H
BEGIN:VTIMEZONE
TZID:Europe/Paris
BEGIN:DAYLIGHT
TZOFFSETFROM:+0100
TZOFFSETTO:+0200
TZNAME:CEST
DTSTART:20250330T010000
END:DAYLIGHT
BEGIN:STANDARD
TZOFFSETFROM:+0200
TZOFFSETTO:+0100
TZNAME:CET
DTSTART:20251026T010000
END:STANDARD
BEGIN:DAYLIGHT
TZOFFSETFROM:+0100
TZOFFSETTO:+0200
TZNAME:CEST
DTSTART:20260329T010000
END:DAYLIGHT
BEGIN:STANDARD
TZOFFSETFROM:+0200
TZOFFSETTO:+0100
TZNAME:CET
DTSTART:20261025T010000
END:STANDARD
BEGIN:DAYLIGHT
TZOFFSETFROM:+0100
TZOFFSETTO:+0200
TZNAME:CEST
DTSTART:20270328T010000
END:DAYLIGHT
BEGIN:STANDARD
TZOFFSETFROM:+0200
TZOFFSETTO:+0100
TZNAME:CET
DTSTART:20271031T010000
END:STANDARD
END:VTIMEZONE
BEGIN:VEVENT
DTSTART;TZID=Europe/Paris:20260307T080000
DTEND;TZID=Europe/Paris:20260308T170000
DTSTAMP:20260421T115356
CREATED:20251128T154233Z
LAST-MODIFIED:20251128T154233Z
UID:3832-1772870400-1772989200@elephantsetpattesdemouche.com
SUMMARY:Fête de la Normandie\, Argentan
DESCRIPTION:Argentan
URL:https://elephantsetpattesdemouche.com/event/fete-de-la-normandie-argentan/
END:VEVENT
BEGIN:VEVENT
DTSTART;TZID=Europe/Paris:20260308T080000
DTEND;TZID=Europe/Paris:20260308T170000
DTSTAMP:20260421T115356
CREATED:20260205T090057Z
LAST-MODIFIED:20260205T090057Z
UID:3892-1772956800-1772989200@elephantsetpattesdemouche.com
SUMMARY:Salon du livre de Valognes
DESCRIPTION:
URL:https://elephantsetpattesdemouche.com/event/salon-du-livre-de-valognes/
ATTACH;FMTTYPE=image/png:https://elephantsetpattesdemouche.com/wp-content/uploads/2026/01/4.png
END:VEVENT
END:VCALENDAR